BEGIN:VCALENDAR
VERSION:2.0
PRODID:-//CHAMBER DASHBOARD//EVENTS CALENDAR2.0//EN
CALSCALE:GREGORIAN
BEGIN:VEVENT
DTEND:20221113
UID:69ea556e5f171
DTSTAMP:20260423T172254Z
LOCATION:Beavers Bend State Park 4350 S. OK-259A, Broken Bow, Oklahoma, 74728
DESCRIPTION:Beavers Bend Folk Festival and Craft Show at Beavers Bend State Park November 11th through the 13th!
URL;VALUE=URI:https://brokenbowareachamber.com/event/beavers-bend-folk-festival-and-craft-show/
SUMMARY:Beavers Bend Folk Festival and Craft Show
DTSTART:20221111
END:VEVENT
END:VCALENDAR
