BEGIN:VCALENDAR
VERSION:2.0
PRODID:-//CHAMBER DASHBOARD//EVENTS CALENDAR2.0//EN
CALSCALE:GREGORIAN
BEGIN:VEVENT
DTEND:20250413T150000Z
UID:69eba8d662dac
DTSTAMP:20260424T173102Z
LOCATION:Girls Gone Wine: Hochatown 
DESCRIPTION:Join us for the Girls Gone Wine: 50 Shades of Pink Walk/Run/Hike on April 13th from 9:00 to 10:00 AM! Meet at Girls Gone Wine in Hochatown to kick off this fun and empowering event. Whether you're walking\, running\, or hiking\, it's a great way to get active while supporting a worthy cause. Wear your pink and bring your friends for a morning of fun\, fitness\, and community spirit!
URL;VALUE=URI:https://brokenbowareachamber.com/event/girls-gone-wine-50-shades-of-pink-walk-run-hike/
SUMMARY:Girls Gone Wine: 50 Shades of Pink Walk/Run/Hike
DTSTART:20250413T140000Z
END:VEVENT
END:VCALENDAR
